BEGIN:VCALENDAR
VERSION:2.0
PRODID:-//wp-events-plugin.com//7.2.3.1//EN
BEGIN:VEVENT
UID:171@yachtschule-stralsund.de
DTSTART;VALUE=DATE:20261011
DTEND;VALUE=DATE:20261018
DTSTAMP:20260416T115632Z
URL:https://www.yachtschule-stralsund.de/events/skippertraining-mittelmeer
 -yachthandling-urlaub/
SUMMARY:Skippertraining Mittelmeer\, Yachthandling & Urlaub
DESCRIPTION:Skippertraining Mittelmeer / Yachthandling &amp\; Urlaub in Gri
 echenland\nSkippertraining Mittelmeer\, Yachthandling und Urlaub - liest s
 ich schwer\, ist aber einfach.\n\n11.10.2026 bis 17.10.2026\n\nInhalt des 
 Törns ist neben einer schönen Urlaubswoche eine entspannte Vermittlung g
 rundlegender Kenntnisse zum Yachthandling einer mittleren Fahrtenyacht. R
 ückwärts Anlegen mit Mooringleinen oder Buganker\, Richtig Ankern (mit u
 nd ohne Landleinen)\, Törnvorbereitung bis hin zu Fragen der Yachtüberna
 hme in einem Charterstützpunkt. Das alles geschieht auf Augenhöhe\, getr
 agen von gegenseitigem Respekt und Wertschätzung. Austausch von Erfahrung
 en ist hierbei immer willkommen.\n\nIm Unterschied zu meinen Praxistörns 
 zur Vorbereitung von SKS- und SSS-Prüfungen stehen hier entspannte Tage a
 n Bord im Fokus. In der Nachsaison sind Temperaturen und Wetter für unser
 e Verhältnisse noch sommerlich. Viel Sonne\, mediterranes Flair und angen
 ehme Wassertemperaturen. Die Gewässer des Saronischen Golfes bieten alles
 \, was wir für dieses Skippertraining brauchen: Ankerbuchten\, kleine Hä
 fen\, und natürlich überall Tavernen.\nYachthandling und Urlaub ab Athen
  - Rundum Sorglos!\nEs können maximal 6-8 Mitsegler/-innen mitreisen. Die
  Unterbringung der Gäste erfolgt in drei Doppelbett- und einer Doppelstoc
 kkabine\, meine Co-Skipperin und ich schlafen in einer eigenen Doppelkabin
 e. Niemand schläft im Salon. Abends sind wir immer an einem beschaulichen
  Plätzchen vor Anker oder im Hafen. Ich kenne das Revier seit über zehn 
 Jahren. Am Tage segeln wir kurze Distanzen\, können bei Ankunft in den H
 äfen oder an den Ankerplätzen auch noch ein paar "Übungen" fahren\, so 
 dass jeder der möchte\, auch mal ans Ruder oder an die Leinen kommt.\n\nA
 uch für reine "Urlauber" ist dieser Törn geeignet. Es ist ausreichend Ze
 it zum Entspannen.\n\nAn Bord gibt es ein umfangreiches Frühstück\, zube
 reitet von der Stammcrew. Diese verantwortet auch den sicheren Schiffsbetr
 ieb. Sofern wir an Bord sind\, gibt es am Tage auch einen Mittagsimbiss. A
 lle Getränke an Bord sind inklusive. Die Abendessen finden in einem gemü
 tlichen Restaurant an Land statt. Hier trägt jeder Teilnehmer seine Koste
 n selbst.\n\nNachdem am Anreisetag (Sonntag) alle angekommen sind und ihre
  Kabinen bezogen haben\, gibt es eine Einweisung in Sicherheit und Schiff.
  Dann legen wir auch schon ab\, fahren in eine kleine Bucht besprechen eur
 e Wünsche und Vorstellungen für die kommenden fünf vollen Segeltage. Wi
 r werden in der Regel bereits am Freitagabend wieder in unserm Stützpunkt
  in Lavrion sein\, so dass am Samstag eine stressfreie Abreise aller Gäst
 e möglich ist. Ich brauche das Schiff ab 10:00 Uhr wieder "gästefrei. We
 nn ihr möchtet\, könnt ihr bereits während der Kontaktaufnahme Eure Vor
 stellungen und Gedanken mitteilen. Jeder Teilnehmer soll um ein schönes E
 rlebnis reicher und mit vielen Fotos\, gefestigtem Selbstvertrauen im Umga
 ng mit einer Yacht und neuen Kontakten wieder nach Hause fahren.\n\nDer Tr
 ansfer vom Flughafen Athen dauert mit einem Uber etwa 45 Minuten und koste
 t 40-50 €.\nSkippertraining Mittelmeer - keine Bordkasse\, Festpreis!\nP
 reis: 888 € / Teilnehmer \nBei Buchung mehrerer Törns hintereinander g
 ibt es 10% Nachlass\nBei Buchung einer Doppelkabine Solo (Einzelunterbring
 ung) gibt es einen Zuschlag von 75% auf den Einzelpreis.\n\nDas Schiff ist
  eine Dufour 460 GL.\n\nIm Preis enthalten:\n- Stammcrew: Skipperin\, Co-S
 kipperin\n- Frühstück\, Tagesimbiss (wenn wir an Bord sind)\, alle Getr
 änke\n- Beibootnutzung\n- Alle Nebenkosten des Schiffsbetriebes (Diesel b
 is Hafengebühren)\n- Bettwäsche\, Handtücher\n- Endreinigung\n\nBei Int
 eresse ruft mich an oder sendet mir eine Buchungsanfrage.\n\n&nbsp\;
ATTACH;FMTTYPE=image/jpeg:https://www.yachtschule-stralsund.de/wp-content/
 uploads/2025/12/Pauline-Business-mit-Yacht-hintergrund-Kopie.jpg
CATEGORIES:Praxis, alle Angebote,Skippertraining
LOCATION:Segalyacht Salted Caramel (Dufour 460 GL\, 77km Athens\, Sounio / 
 Lavrion\, GR - 19500\, Griechenland
X-APPLE-STRUCTURED-LOCATION;VALUE=URI;X-ADDRESS=77km Athens\, Sounio / Lavr
 ion\, GR - 19500\, Griechenland;X-APPLE-RADIUS=100;X-TITLE=Segalyacht Salt
 ed Caramel (Dufour 460 GL:geo:0,0
END:VEVENT
END:VCALENDAR