BEGIN:VCALENDAR
VERSION:2.0
PRODID:-//wp-events-plugin.com//7.2.3.1//EN
BEGIN:VEVENT
UID:106@yachtschule-stralsund.de
DTSTART;VALUE=DATE:20261004
DTEND;VALUE=DATE:20261011
DTSTAMP:20260421T175609Z
URL:https://www.yachtschule-stralsund.de/events/skippertraining-mittelmeer
 -yachthandling-spezial/
SUMMARY:Skippertraining Mittelmeer\, Yachthandling & Urlaub
DESCRIPTION:Skippertraining Mittelmeer / Yachthandling &amp\; Urlaub in Gri
 echenland\nSkippertraining Mittelmeer\, Yachthandling und Urlaub - liest s
 ich schwer\, ist aber einfach.\n\n04.-10.10.2026\n\nInhalt des Törns ist 
 neben einer schönen Urlaubswoche eine entspannte Vermittlung grundlegende
 r Kenntnisse zum Yachthandling einer mittleren Fahrtenyacht. Rückwärts A
 nlegen mit Mooringleinen oder Buganker\, Richtig Ankern (mit und ohne Land
 leinen)\, Törnvorbereitung bis hin zu Fragen der Yachtübernahme in einem
  Charterstützpunkt. Das alles geschieht auf Augenhöhe\, getragen von geg
 enseitigem Respekt und Wertschätzung. Austausch von Erfahrungen ist hierb
 ei immer willkommen.\n\nIm Unterschied zu meinen Praxistörns zur Vorberei
 tung von SKS- und SSS-Prüfungen stehen hier entspannte Tage an Bord im Fo
 kus. In der Nachsaison sind Temperaturen und Wetter für unsere Verhältni
 sse noch sommerlich. Viel Sonne\, mediterranes Flair und angenehme Wassert
 emperaturen. Die Gewässer des Saronischen Golfes bieten alles\, was wir f
 ür dieses Skippertraining brauchen: Ankerbuchten\, kleine Häfen\, und na
 türlich überall Tavernen.\nYachthandling und Urlaub ab Athen - Rundum So
 rglos!\nEs können maximal 6-8 Mitsegler/-innen mitreisen. Die Unterbringu
 ng der Gäste erfolgt in drei Doppelbett- und einer Doppelstockkabine\, me
 ine Co-Skipperin und ich schlafen in einer eigenen Doppelkabine. Niemand s
 chläft im Salon. Abends sind wir immer an einem beschaulichen Plätzchen 
 vor Anker oder im Hafen. Ich kenne das Revier seit über zehn Jahren. Am T
 age segeln wir kurze Distanzen\, können bei Ankunft in den Häfen oder an
  den Ankerplätzen auch noch ein paar "Übungen" fahren\, so dass jeder de
 r möchte\, auch mal ans Ruder oder an die Leinen kommt.\n\nAuch für rein
 e "Urlauber" ist dieser Törn geeignet. Es ist ausreichend Zeit zum Entspa
 nnen.\n\nAn Bord gibt es ein umfangreiches Frühstück\, zubereitet von de
 r Stammcrew. Diese verantwortet auch den sicheren Schiffsbetrieb. Sofern w
 ir an Bord sind\, gibt es am Tage auch einen Mittagsimbiss. Alle Getränke
  an Bord sind inklusive. Die Abendessen finden in einem gemütlichen Resta
 urant an Land statt. Hier trägt jeder Teilnehmer seine Kosten selbst.\n\n
 Nachdem am Anreisetag (Sonntag) alle angekommen sind und ihre Kabinen bezo
 gen haben\, gibt es eine Einweisung in Sicherheit und Schiff. Dann legen w
 ir auch schon ab\, fahren in eine kleine Bucht besprechen eure Wünsche un
 d Vorstellungen für die kommenden fünf vollen Segeltage. Wir werden in d
 er Regel bereits am Freitagabend wieder in unserm Stützpunkt in Lavrion s
 ein\, so dass am Samstag eine stressfreie Abreise aller Gäste möglich is
 t. Ich brauche das Schiff ab 10:00 Uhr wieder "gästefrei. Wenn ihr möcht
 et\, könnt ihr bereits während der Kontaktaufnahme Eure Vorstellungen un
 d Gedanken mitteilen. Jeder Teilnehmer soll um ein schönes Erlebnis reich
 er und mit vielen Fotos\, gefestigtem Selbstvertrauen im Umgang mit einer 
 Yacht und neuen Kontakten wieder nach Hause fahren.\n\nDer Transfer vom Fl
 ughafen Athen dauert mit einem Uber etwa 45 Minuten und kostet 40-50 €.\
 nSkippertraining Mittelmeer - keine Bordkasse\, Festpreis!\nPreis: 888 €
  / Teilnehmer \nBei Buchung mehrerer Törns hintereinander gibt es 10% Na
 chlass)\nBei Buchung einer Doppelkabine Solo (Einzelunterbringung) gibt es
  einen Zuschlag von 75% auf den Einzelpreis.\n\nDas Schiff ist eine Dufour
  460 GL.\n\nIm Preis enthalten:\n- Stammcrew: Skipperin\, Co-Skipperin\n- 
 Frühstück\, Tagesimbiss (wenn wir an Bord sind)\, alle Getränke\n- Beib
 ootnutzung\n- Alle Nebenkosten des Schiffsbetriebes (Diesel bis Hafengebü
 hren)\n- Bettwäsche\, Handtücher\n- Endreinigung\n\nBei Interesse ruft m
 ich an oder sendet mir eine Buchungsanfrage.\n\n&nbsp\;
ATTACH;FMTTYPE=image/jpeg:https://www.yachtschule-stralsund.de/wp-content/
 uploads/2025/12/Pauline-Business-mit-Yacht-hintergrund-Kopie.jpg
CATEGORIES:Praxis, alle Angebote,Skippertraining
LOCATION:Segalyacht Salted Caramel (Dufour 460 GL\, 77km Athens\, Sounio / 
 Lavrion\, GR - 19500\, Griechenland
X-APPLE-STRUCTURED-LOCATION;VALUE=URI;X-ADDRESS=77km Athens\, Sounio / Lavr
 ion\, GR - 19500\, Griechenland;X-APPLE-RADIUS=100;X-TITLE=Segalyacht Salt
 ed Caramel (Dufour 460 GL:geo:0,0
END:VEVENT
END:VCALENDAR