BEGIN:VCALENDAR
VERSION:2.0
PRODID:-//wp-events-plugin.com//7.2.3.1//EN
BEGIN:VEVENT
UID:125@yachtschule-stralsund.de
DTSTART;VALUE=DATE:20260501
DTEND;VALUE=DATE:20300901
DTSTAMP:20260416T085953Z
URL:https://www.yachtschule-stralsund.de/events/sbf-see-praxisausbildung/
SUMMARY:SBF See Praxisausbildung
DESCRIPTION:SBF See Praxisausbildung\nDie SBF See Praxisausbildung ist der 
 erste Schritt in Richtung Kapitän! Übernehmen Sie das Steuer auf dem Sch
 ulungsschiff "Muppel" der Yachtschule Stralsund!\n\nEs ist noch kein Meist
 er vom Himmel gefallen\, deshalb bringt Ihnen das Team der Yachtschule Str
 alsund mit viel Geduld und viel Erfahrung das Bootshandling bei. Wir mache
 n Sie fit für die Prüfung!\nPraxisprüfung ohne Übung?\nFür die prakti
 sche Ausbildung empfehlen wir mind. zwei Praxisstunden. Meist abhängig vo
 n der zuvor auf Booten gesammelten Erfahrung.\n\nWenn Sie bereits ausreich
 end Routine im Handling von Motorbooten gesammelt haben\, empfehlen wir de
 nnoch eine Stunde lang unser schuleigenes Boot kennenzulernen.\n\nMit dies
 em Boot können Sie dann auch die Prüfung fahren.\nDie Praxisausbildung i
 m Detail\nIn unserer Praxisausbildung lernen Sie die nötigen Manöver und
  Kommandos\, die Sie in der praktischen Prüfung benötigen.\n\nDazu gehö
 ren die Pflichtmanöver wie das Rettungsmanöver (Mensch über Bord)\, das
  An- und Ablegen\, Steuern nach Kompass sowie das Peilen (einfach oder kre
 uz).\n\nSonstige Aufgaben sind das Aufstoppen (Kursgerecht)\, Wenden auf e
 ngem Raum\, Steuern nach Landmarken\, Handling der Rettungsweste / Gurt so
 wie Schallsignale und zu guter letzt die 9 zu erlernenden Knoten\n\nDas Pr
 üfungsprotokoll finden auch beim Elektronischen Wasserstraßen-Informatio
 nsservie (ELWIS) hier.\n\nPreis\n\nFür die SBF See Praxisausbildung liegt
  unser regulärer Preis pro Stunde bei 66\,- EUR und für die Prüfungsfah
 rt allein bei 88\,- EUR (inkl. 20 min Einweisung ins Boot).\n\nKombirabatt
 \n\nPaket "Praxis und Prüfung": Praxisausbildung (2 Stunden) und Prüfung
 sfahrt für 188\,- EUR\n\nZzgl. der Prüfungsgebühr beim Prüfungsausschu
 ss (derzeit 148\,38 EUR)\n\nDie Termine zur Praxisausbildung können neben
  unseren ausgeschriebenen Terminen individuell und flexibel mit uns verein
 bart werden. Dabei sitzen maximal zwei Teilnehmer im Ausbildungsboot.\n\n[
 caption id="attachment_400" align="alignnone" width="300"] Peilen mit dem 
 Handpeilkompass[/caption]\n\nBuchungsanfrage unten\n\noder\n\ntelefonisch 
 +49 152 52758281 (Pauline)\, +49 158 8458909
ATTACH;FMTTYPE=image/jpeg:https://www.yachtschule-stralsund.de/wp-content/
 uploads/2015/01/9783768834896.jpg
CATEGORIES:Praxis, alle Angebote,SBF-See
LOCATION:Yachtschule Stralsund\, Langenstraße 52\, Stralsund\, Mecklenburg
 -Vorpommern\, 18439\, Deutschland
GEO:54.31435;13.09847
X-APPLE-STRUCTURED-LOCATION;VALUE=URI;X-ADDRESS=Langenstraße 52\, Stralsun
 d\, Mecklenburg-Vorpommern\, 18439\, Deutschland;X-APPLE-RADIUS=100;X-TITL
 E=Yachtschule Stralsund:geo:54.31435,13.09847
END:VEVENT
END:VCALENDAR